{
 "documentInfo": {
  "Category": "",
  "Keywords": "1985,Aerial",
  "Version": "10.1",
  "Comments": "",
  "AntialiasingMode": "Fast",
  "Title": "",
  "Author": "",
  "TextAntialiasingMode": "Force",
  "Subject": ""
 },
 "maxImageWidth": 4096,
 "wmtsScaleFactor": 0.0009186351706037901,
 "maxRecordCount": 1000,
 "tileInfo": {
  "lods": [
   {
    "level": 0,
    "scale": 50000,
    "resolution": 43.402864583506947
   },
   {
    "level": 1,
    "scale": 25000,
    "resolution": 21.701432291753473
   },
   {
    "level": 2,
    "scale": 12500,
    "resolution": 10.850716145876737
   },
   {
    "level": 3,
    "scale": 6250,
    "resolution": 5.4253580729383684
   },
   {
    "level": 4,
    "scale": 3125,
    "resolution": 2.7126790364691842
   },
   {
    "level": 5,
    "scale": 1562,
    "resolution": 1.355905489588757
   },
   {
    "level": 6,
    "scale": 781,
    "resolution": 0.6779527447943785
   },
   {
    "level": 7,
    "scale": 391,
    "resolution": 0.33941040104302428
   },
   {
    "level": 8,
    "scale": 195,
    "resolution": 0.16927117187567708
   },
   {
    "level": 9,
    "scale": 98,
    "resolution": 0.085069614583673611
   },
   {
    "level": 10,
    "scale": 49,
    "resolution": 0.042534807291836806
   }
  ],
  "origin": {
   "x": -17746700,
   "y": 21556600
  },
  "format": "MIXED",
  "compressionQuality": 75,
  "rows": 256,
  "dpi": 96,
  "spatialReference": {
   "falseM": -100000,
   "xyTolerance": 0.0032808398950131233,
   "mUnits": 10000,
   "zUnits": 10000,
   "latestWkid": 2868,
   "zTolerance": 0.001,
   "wkid": 2868,
   "xyUnits": 137254860.725147247,
   "mTolerance": 0.001,
   "falseX": -17746700,
   "falseY": -44067300,
   "falseZ": -100000
  },
  "cols": 256
 },
 "description": "",
 "datesInUnknownTimezone": false,
 "supportsQueryDomains": true,
 "units": "esriFeet",
 "maxSelectionCount": 2000,
 "supportedImageFormatTypes": "PNG32,PNG24,PNG,JPG,DIB,TIFF,EMF,PS,PDF,GIF,SVG,SVGZ,BMP",
 "supportsClipping": true,
 "exportTilesAllowed": false,
 "maxImageHeight": 4096,
 "tables": [],
 "hasVersionedData": false,
 "supportsDatumTransformation": true,
 "cimVersion": "3.7.0",
 "supportsQueryDataElements": true,
 "layers": [
  {
   "subLayerIds": null,
   "maxScale": 0,
   "name": "Aerial1985",
   "defaultVisibility": true,
   "id": 0,
   "minScale": 0,
   "supportsDynamicLegends": true,
   "type": "Raster Layer",
   "parentLayerId": -1
  }
 ],
 "mapName": "Layers",
 "minScale": 50000,
 "archivingInfo": {
  "supportsHistoricMoment": false
 },
 "spatialReference": {
  "xyTolerance": 0.0032808398950131233,
  "mUnits": 10000,
  "zUnits": 1,
  "latestWkid": 2868,
  "xyUnits": 137254860.725147247,
  "mTolerance": 0.001,
  "falseX": -17746700,
  "falseY": -44067300,
  "falseZ": 0,
  "latestVcsWkid": 5703,
  "falseM": -100000,
  "zTolerance": 2,
  "wkid": 2868,
  "vcsWkid": 5703
 },
 "tileImageInfo": {
  "bandCount": 1,
  "lercError": 0,
  "format": "MIXED",
  "compressionQuality": 75
 },
 "fullExtent": {
  "ymin": 862660.17056508304,
  "xmin": 797593.32580976444,
  "ymax": 889388.45653908304,
  "xmax": 825705.73816376447,
  "spatialReference": {
   "xyTolerance": 0.0032808398950131233,
   "mUnits": 10000,
   "zUnits": 1,
   "latestWkid": 2868,
   "xyUnits": 137254860.725147247,
   "mTolerance": 0.001,
   "falseX": -17746700,
   "falseY": -44067300,
   "falseZ": 0,
   "latestVcsWkid": 5703,
   "falseM": -100000,
   "zTolerance": 2,
   "wkid": 2868,
   "vcsWkid": 5703
  }
 },
 "supportedExtensions": "",
 "serviceItemId": "c2d4016b3424411990dd323c47b3c2d8",
 "capabilities": "Map,Query,Data",
 "supportsDynamicLayers": true,
 "maxScale": 195,
 "singleFusedMapCache": true,
 "currentVersion": 12.1,
 "storageInfo": {
  "storageFormat": "esriMapCacheStorageModeCompactV2",
  "packetSize": 128
 },
 "resampling": false,
 "hasBranchVersionedData": false,
 "mapUnits": {
  "uwkid": 9002
 },
 "referenceScale": 0,
 "heightModelInfo": {
  "vertCRS": "NAVD_1988",
  "heightModel": "gravity_related_height",
  "heightUnit": "meter"
 },
 "supportsSpatialFilter": true,
 "supportsVCSProjection": true,
 "supportedQueryFormats": "JSON, geoJSON, PBF",
 "initialExtent": {
  "ymin": 863393.46171694004,
  "xmin": 785948.26585153921,
  "ymax": 887612.21171694004,
  "xmax": 839073.26585153898,
  "spatialReference": {
   "xyTolerance": 0.0032808398950131233,
   "mUnits": 10000,
   "zUnits": 1,
   "latestWkid": 2868,
   "xyUnits": 137254860.725147247,
   "mTolerance": 0.001,
   "falseX": -17746700,
   "falseY": -44067300,
   "falseZ": 0,
   "latestVcsWkid": 5703,
   "falseM": -100000,
   "zTolerance": 2,
   "wkid": 2868,
   "vcsWkid": 5703
  }
 },
 "serviceDescription": "1985 Cooper Aerial imagery flown on 03/13/1985",
 "copyrightText": "AJGIS, Cooper Aerial",
 "supportsTimeRelation": true
}
