{
 "currentVersion": 11.3,
 "cimVersion": "3.3.0",
 "serviceDescription": "Aerials from Maricopa County imagery consortium ",
 "mapName": "Map",
 "description": "",
 "copyrightText": "AJGIS",
 "supportsDynamicLayers": true,
 "layers": [
  {
   "id": 0,
   "name": "AZMARI_FY22",
   "parentLayerId": -1,
   "defaultVisibility": true,
   "subLayerIds": null,
   "minScale": 0,
   "maxScale": 0,
   "type": "Raster Layer",
   "supportsDynamicLegends": true
  }
 ],
 "tables": [],
 "spatialReference": {
  "wkid": 2868,
  "latestWkid": 2868,
  "vcsWkid": 5703,
  "latestVcsWkid": 5703,
  "xyTolerance": 0.0032808398950131233,
  "zTolerance": 0.001,
  "mTolerance": 0.001,
  "falseX": -17746700,
  "falseY": -44067300,
  "xyUnits": 3048,
  "falseZ": -100000,
  "zUnits": 10000,
  "falseM": -100000,
  "mUnits": 10000
 },
 "singleFusedMapCache": true,
 "tileInfo": {
  "rows": 256,
  "cols": 256,
  "dpi": 96,
  "format": "MIXED",
  "compressionQuality": 75,
  "origin": {
   "x": -17746700,
   "y": 21556600
  },
  "spatialReference": {
   "wkid": 2868,
   "latestWkid": 2868,
   "xyTolerance": 0.0032808398950131233,
   "zTolerance": 0.001,
   "mTolerance": 0.001,
   "falseX": -17746700,
   "falseY": -44067300,
   "xyUnits": 1.3725486072514725E8,
   "falseZ": -100000,
   "zUnits": 10000,
   "falseM": -100000,
   "mUnits": 10000
  },
  "lods": [
   {
    "level": 0,
    "resolution": 43.40286458350695,
    "scale": 50000
   },
   {
    "level": 1,
    "resolution": 21.701432291753473,
    "scale": 25000
   },
   {
    "level": 2,
    "resolution": 10.850716145876737,
    "scale": 12500
   },
   {
    "level": 3,
    "resolution": 5.425358072938368,
    "scale": 6250
   },
   {
    "level": 4,
    "resolution": 2.712679036469184,
    "scale": 3125
   },
   {
    "level": 5,
    "resolution": 1.355905489588757,
    "scale": 1562
   },
   {
    "level": 6,
    "resolution": 0.6779527447943785,
    "scale": 781
   },
   {
    "level": 7,
    "resolution": 0.3394104010430243,
    "scale": 391
   },
   {
    "level": 8,
    "resolution": 0.16927117187567708,
    "scale": 195
   },
   {
    "level": 9,
    "resolution": 0.08506961458367361,
    "scale": 98
   },
   {
    "level": 10,
    "resolution": 0.042534807291836806,
    "scale": 49
   }
  ]
 },
 "storageInfo": {
  "storageFormat": "esriMapCacheStorageModeCompactV2",
  "packetSize": 128
 },
 "initialExtent": {
  "xmin": 785488.5999806887,
  "ymin": 824473.5905859622,
  "xmax": 877008.5999806896,
  "ymax": 899296.1546885269,
  "spatialReference": {
   "wkid": 2868,
   "latestWkid": 2868,
   "vcsWkid": 5703,
   "latestVcsWkid": 5703,
   "xyTolerance": 0.0032808398950131233,
   "zTolerance": 0.001,
   "mTolerance": 0.001,
   "falseX": -17746700,
   "falseY": -44067300,
   "xyUnits": 3048,
   "falseZ": -100000,
   "zUnits": 10000,
   "falseM": -100000,
   "mUnits": 10000
  }
 },
 "fullExtent": {
  "xmin": 792499.9192430787,
  "ymin": 827499.8860846497,
  "xmax": 867499.9192430787,
  "ymax": 897499.8860846497,
  "spatialReference": {
   "wkid": 2868,
   "latestWkid": 2868,
   "vcsWkid": 5703,
   "latestVcsWkid": 5703,
   "xyTolerance": 0.0032808398950131233,
   "zTolerance": 0.001,
   "mTolerance": 0.001,
   "falseX": -17746700,
   "falseY": -44067300,
   "xyUnits": 3048,
   "falseZ": -100000,
   "zUnits": 10000,
   "falseM": -100000,
   "mUnits": 10000
  }
 },
 "datesInUnknownTimezone": false,
 "minScale": 50000,
 "maxScale": 98,
 "minLOD": 0,
 "maxLOD": 9,
 "units": "esriFeet",
 "supportedImageFormatTypes": "PNG32,PNG24,PNG,JPG,DIB,TIFF,EMF,PS,PDF,GIF,SVG,SVGZ,BMP",
 "documentInfo": {
  "Title": "Map",
  "Author": "",
  "Comments": "",
  "Subject": "",
  "Category": "",
  "Version": "2.9.0",
  "AntialiasingMode": "Fast",
  "TextAntialiasingMode": "Force",
  "Keywords": "AZMARI,Imagery"
 },
 "supportsQueryDomains": true,
 "capabilities": "Query,Map,Data",
 "supportedQueryFormats": "JSON, geoJSON, PBF",
 "exportTilesAllowed": false,
 "referenceScale": 0.0,
 "supportsDatumTransformation": true,
 "heightModelInfo": {
  "heightModel": "gravity_related_height",
  "vertCRS": "NAVD_1988",
  "heightUnit": "meter"
 },
 "supportsVCSProjection": true,
 "archivingInfo": {
  "supportsHistoricMoment": false
 },
 "supportsClipping": true,
 "supportsSpatialFilter": true,
 "supportsTimeRelation": true,
 "supportsQueryDataElements": true,
 "mapUnits": {
  "uwkid": 9002
 },
 "maxRecordCount": 1000,
 "maxImageHeight": 4096,
 "maxImageWidth": 4096,
 "supportedExtensions": "",
 "serviceItemId": "b88f572a79be4cc4bfe5c8c00559a8f9"
}
