{
 "currentVersion": 11.3,
 "cimVersion": "3.3.0",
 "serviceDescription": "",
 "mapName": "AZMARI_FY23",
 "description": "",
 "copyrightText": "",
 "supportsDynamicLayers": false,
 "layers": [
  {
   "id": 0,
   "name": "AZMARI_FY23",
   "parentLayerId": -1,
   "defaultVisibility": true,
   "subLayerIds": [
    1,
    2,
    3
   ],
   "minScale": 0,
   "maxScale": 0,
   "type": "Mosaic Layer",
   "supportsDynamicLegends": false
  },
  {
   "id": 1,
   "name": "Boundary",
   "parentLayerId": 0,
   "defaultVisibility": false,
   "subLayerIds": null,
   "minScale": 0,
   "maxScale": 0,
   "type": "Feature Layer",
   "geometryType": "esriGeometryPolygon",
   "supportsDynamicLegends": true
  },
  {
   "id": 2,
   "name": "Footprint",
   "parentLayerId": 0,
   "defaultVisibility": false,
   "subLayerIds": null,
   "minScale": 0,
   "maxScale": 0,
   "type": "Feature Layer",
   "geometryType": "esriGeometryPolygon",
   "supportsDynamicLegends": true
  },
  {
   "id": 3,
   "name": "Image",
   "parentLayerId": 0,
   "defaultVisibility": true,
   "subLayerIds": null,
   "minScale": 0,
   "maxScale": 0,
   "type": "Raster Layer",
   "supportsDynamicLegends": true
  }
 ],
 "tables": [],
 "spatialReference": {
  "wkid": 2868,
  "latestWkid": 2868,
  "xyTolerance": 0.0032808398950131233,
  "zTolerance": 0.001,
  "mTolerance": 0.001,
  "falseX": -17746700,
  "falseY": -44067300,
  "xyUnits": 3048,
  "falseZ": -100000,
  "zUnits": 10000,
  "falseM": -100000,
  "mUnits": 10000
 },
 "singleFusedMapCache": true,
 "tileInfo": {
  "rows": 256,
  "cols": 256,
  "dpi": 96,
  "format": "MIXED",
  "compressionQuality": 75,
  "origin": {
   "x": -17746700,
   "y": 21556600
  },
  "spatialReference": {
   "wkid": 2868,
   "latestWkid": 2868,
   "xyTolerance": 0.0032808398950131233,
   "zTolerance": 0.001,
   "mTolerance": 0.001,
   "falseX": -17746700,
   "falseY": -44067300,
   "xyUnits": 1.3725486072514725E8,
   "falseZ": -100000,
   "zUnits": 10000,
   "falseM": -100000,
   "mUnits": 10000
  },
  "lods": [
   {
    "level": 0,
    "resolution": 43.40286458350695,
    "scale": 50000
   },
   {
    "level": 1,
    "resolution": 21.701432291753473,
    "scale": 25000
   },
   {
    "level": 2,
    "resolution": 10.850716145876737,
    "scale": 12500
   },
   {
    "level": 3,
    "resolution": 5.425358072938368,
    "scale": 6250
   },
   {
    "level": 4,
    "resolution": 2.712679036469184,
    "scale": 3125
   },
   {
    "level": 5,
    "resolution": 1.355905489588757,
    "scale": 1562
   },
   {
    "level": 6,
    "resolution": 0.6779527447943785,
    "scale": 781
   },
   {
    "level": 7,
    "resolution": 0.3394104010430243,
    "scale": 391
   },
   {
    "level": 8,
    "resolution": 0.16927117187567708,
    "scale": 195
   },
   {
    "level": 9,
    "resolution": 0.08506961458367361,
    "scale": 98
   },
   {
    "level": 10,
    "resolution": 0.042534807291836806,
    "scale": 49
   }
  ]
 },
 "storageInfo": {
  "storageFormat": "esriMapCacheStorageModeCompactV2",
  "packetSize": 128
 },
 "initialExtent": {
  "xmin": 772604.5884092355,
  "ymin": 824438.5104232342,
  "xmax": 859594.796487571,
  "ymax": 901438.5104232342,
  "spatialReference": {
   "wkid": 2868,
   "latestWkid": 2868,
   "xyTolerance": 0.0032808398950131233,
   "zTolerance": 0.001,
   "mTolerance": 0.001,
   "falseX": -17746700,
   "falseY": -44067300,
   "xyUnits": 3048,
   "falseZ": -100000,
   "zUnits": 10000,
   "falseM": -100000,
   "mUnits": 10000
  }
 },
 "fullExtent": {
  "xmin": 792500,
  "ymin": 827500,
  "xmax": 842500,
  "ymax": 897500,
  "spatialReference": {
   "wkid": 2868,
   "latestWkid": 2868,
   "xyTolerance": 0.0032808398950131233,
   "zTolerance": 0.001,
   "mTolerance": 0.001,
   "falseX": -17746700,
   "falseY": -44067300,
   "xyUnits": 3048,
   "falseZ": -100000,
   "zUnits": 10000,
   "falseM": -100000,
   "mUnits": 10000
  }
 },
 "datesInUnknownTimezone": false,
 "units": "esriFeet",
 "supportedImageFormatTypes": "PNG32,PNG24,PNG,JPG,DIB,TIFF,EMF,PS,PDF,GIF,SVG,SVGZ,BMP",
 "documentInfo": {
  "Title": "Map",
  "Author": "",
  "Comments": "",
  "Subject": "",
  "Category": "",
  "Version": "3.3.0",
  "AntialiasingMode": "Fast",
  "TextAntialiasingMode": "Force",
  "Keywords": ""
 },
 "supportsQueryDomains": true,
 "supportedQueryFormats": "JSON, geoJSON, PBF",
 "referenceScale": 0.0,
 "supportsDatumTransformation": true,
 "archivingInfo": {
  "supportsHistoricMoment": false
 },
 "supportsClipping": true,
 "supportsSpatialFilter": true,
 "supportsTimeRelation": true,
 "supportsQueryDataElements": true,
 "mapUnits": {
  "uwkid": 9002
 },
 "maxRecordCount": 1000,
 "maxImageHeight": 4096,
 "maxImageWidth": 4096,
 "minScale": 50000.0,
 "maxScale": 98.0,
 "exportTilesAllowed": true,
 "maxExportTilesCount": 100000,
 "capabilities": "TilesOnly,Tilemap",
 "minLOD": 0,
 "maxLOD": 9,
 "supportedExtensions": "",
 "serviceItemId": "cb7fd44f09934c628f586b2c20eb4248"
}
