{
 "extent": {
  "ymin": 831253.13608464971,
  "xmin": 799015.16924307868,
  "ymax": 900456.13608464971,
  "xmax": 835720.16924307868,
  "spatialReference": {
   "latestWkid": 2868,
   "wkid": 2868
  }
 },
 "blockWidth": 128,
 "mosaicOperator": "First",
 "serviceSourceType": "esriImageServiceSourceTypeDataset",
 "hasMultidimensions": false,
 "maxImageWidth": 15000,
 "tileInfo": {
  "lods": [
   {
    "level": 0,
    "scale": 50000,
    "resolution": 43.402864583506947
   },
   {
    "level": 1,
    "scale": 25000,
    "resolution": 21.701432291753473
   },
   {
    "level": 2,
    "scale": 12500,
    "resolution": 10.850716145876737
   },
   {
    "level": 3,
    "scale": 6250,
    "resolution": 5.4253580729383684
   },
   {
    "level": 4,
    "scale": 3125,
    "resolution": 2.7126790364691842
   },
   {
    "level": 5,
    "scale": 1562,
    "resolution": 1.355905489588757
   },
   {
    "level": 6,
    "scale": 781,
    "resolution": 0.6779527447943785
   },
   {
    "level": 7,
    "scale": 391,
    "resolution": 0.33941040104302428
   },
   {
    "level": 8,
    "scale": 195,
    "resolution": 0.16927117187567708
   },
   {
    "level": 9,
    "scale": 98,
    "resolution": 0.085069614583673611
   },
   {
    "level": 10,
    "scale": 49,
    "resolution": 0.042534807291836806
   }
  ],
  "origin": {
   "x": -17746700,
   "y": 21556600
  },
  "format": "MIXED",
  "compressionQuality": 75,
  "rows": 256,
  "dpi": 96,
  "spatialReference": {
   "latestWkid": 2868,
   "wkid": 2868
  },
  "cols": 256
 },
 "meanValues": [
  1698.4903987031305
 ],
 "hasColormap": false,
 "compressionType": "NONE",
 "defaultCompressionQuality": 75,
 "maxValues": [
  2881.75048828125
 ],
 "hasHistograms": true,
 "datasetFormat": "FGDBR",
 "maxImageHeight": 4100,
 "sortField": "",
 "bandNames": [
  "Band_1"
 ],
 "spatialReference": {
  "latestWkid": 2868,
  "wkid": 2868
 },
 "fullExtent": {
  "ymin": 831253.13608464971,
  "xmin": 799015.16924307868,
  "ymax": 900456.13608464971,
  "xmax": 835720.16924307868,
  "spatialReference": {
   "latestWkid": 2868,
   "wkid": 2868
  }
 },
 "bandCount": 1,
 "rasterFunctionInfos": [
  {
   "help": "",
   "name": "None",
   "description": ""
  }
 ],
 "supportsStatistics": false,
 "sortableFields": "",
 "minValues": [
  1421.605712890625
 ],
 "allowRasterFunction": true,
 "allowComputeTiePoints": false,
 "serviceDataType": "esriImageServiceDataTypeGeneric",
 "supportsAdvancedQueries": false,
 "currentVersion": 12.1,
 "sortValue": null,
 "objectIdField": "",
 "maxLOD": 10,
 "blockHeight": 128,
 "initialExtent": {
  "ymin": 831253.13608464971,
  "xmin": 799015.16924307868,
  "ymax": 900456.13608464971,
  "xmax": 835720.16924307868,
  "spatialReference": {
   "latestWkid": 2868,
   "wkid": 2868
  }
 },
 "pixelSizeX": 0.5,
 "pixelSizeY": 0.5,
 "defaultMosaicMethod": "Center",
 "name": "USGS_DEM_ft",
 "allowedMosaicMethods": "",
 "fields": [],
 "allowAnalysis": true,
 "hasRasterAttributeTable": false,
 "useStandardizedQueries": false,
 "description": "",
 "pixelType": "F32",
 "meanPixelSize": 0.15240000000000001,
 "exportTilesAllowed": false,
 "editFieldsInfo": null,
 "rasterTypeInfos": [
  {
   "help": "",
   "name": "Raster Dataset",
   "description": "Supports all ArcGIS Raster Datasets"
  }
 ],
 "defaultResamplingMethod": "Bilinear",
 "itemAccess": false,
 "minScale": 25000,
 "cacheType": "Map",
 "serviceProperties": "Center<\/MosaicMethod>First<\/MosaicOperator>true<\/SortAscending><\/LockImageID><\/TileOrderField>0<\/TileOrderBase>0.000000<\/AvgImageSpacingX>0.000000<\/AvgImageSpacingY>0.0<\/ViewPointX>0.0<\/ViewPointY>0.0<\/ViewPointDefShiftX>0.0<\/ViewPointDefShiftY>JPEG<\/CompressionMethod>75<\/CompressionQuality>0.010000<\/CompressionTolerance>Bilinear<\/SamplingMethod><\/ImageServiceProperties><\/ImageServer>",
 "advancedQueryCapabilities": {
  "supportsStatistics": false,
  "supportsSqlExpression": false,
  "supportsOrderBy": false,
  "useStandardizedQueries": false,
  "supportsPagination": false,
  "supportsDistinct": false
 },
 "serviceItemId": "a99174fff55e43e6abc7cdf47e0641d6",
 "capabilities": "Image,Metadata,Pixels,Mensuration",
 "maxScale": 49,
 "singleFusedMapCache": true,
 "stdvValues": [
  177.04195730075526
 ],
 "allowedFields": "",
 "minPixelSize": 0.042534807291836806,
 "storageInfo": {
  "storageFormat": "esriMapCacheStorageModeCompactV2",
  "packetSize": 128
 },
 "sortAscending": true,
 "inspectionCapabilities": "",
 "minLOD": 1,
 "maxPixelSize": 21.701432291753473,
 "allowedCompressions": "JPEG,None,LZ77,LERC",
 "uncompressedSize": 40641537840,
 "serviceDescription": "USGS_DEM_ft",
 "allowCopy": true,
 "copyrightText": "",
 "mensurationCapabilities": "Basic,3D",
 "ownershipBasedAccessControlForRasters": null
}
